Package: GEM Version: 1.37.0 Command: /home/biocbuild/bbs-3.23-bioc/R/bin/R CMD INSTALL GEM StartedAt: 2025-11-20 15:07:12 -0500 (Thu, 20 Nov 2025) EndedAt: 2025-11-20 15:07:22 -0500 (Thu, 20 Nov 2025) EllapsedTime: 10.4 seconds RetCode: 0 Status: OK