Package: GEM Version: 1.37.0 Command: /Library/Frameworks/R.framework/Resources/bin/R CMD INSTALL GEM StartedAt: 2025-11-20 15:14:52 -0500 (Thu, 20 Nov 2025) EndedAt: 2025-11-20 15:15:34 -0500 (Thu, 20 Nov 2025) EllapsedTime: 41.8 seconds RetCode: 0 Status: OK