Package: GEM Version: 1.37.0 Command: /Library/Frameworks/R.framework/Resources/bin/R CMD build --keep-empty-dirs --no-resave-data GEM StartedAt: 2025-11-20 17:05:56 -0500 (Thu, 20 Nov 2025) EndedAt: 2025-11-20 17:06:19 -0500 (Thu, 20 Nov 2025) EllapsedTime: 22.8 seconds RetCode: 0 Status: OK PackageFile: GEM_1.37.0.tar.gz PackageFileSize: 689.6 KiB