Package: GEM Version: 1.35.0 Command: /Library/Frameworks/R.framework/Resources/bin/R CMD INSTALL GEM StartedAt: 2025-10-10 15:06:37 -0400 (Fri, 10 Oct 2025) EndedAt: 2025-10-10 15:06:42 -0400 (Fri, 10 Oct 2025) EllapsedTime: 5.2 seconds RetCode: 0 Status: OK