Package: GEM Version: 1.35.0 Command: /Library/Frameworks/R.framework/Resources/bin/R CMD build --keep-empty-dirs --no-resave-data GEM StartedAt: 2025-10-10 16:28:50 -0400 (Fri, 10 Oct 2025) EndedAt: 2025-10-10 16:28:58 -0400 (Fri, 10 Oct 2025) EllapsedTime: 8.1 seconds RetCode: 0 Status: OK PackageFile: GEM_1.35.0.tar.gz PackageFileSize: 689.5 KiB