Package: GDSArray Version: 1.31.0 Command: /home/biocbuild/bbs-3.23-bioc/R/bin/R CMD INSTALL GDSArray StartedAt: 2025-11-19 15:28:30 -0500 (Wed, 19 Nov 2025) EndedAt: 2025-11-19 15:28:46 -0500 (Wed, 19 Nov 2025) EllapsedTime: 16.8 seconds RetCode: 0 Status: OK