Package: GDCRNATools Version: 1.31.0 Command: /home/biocbuild/bbs-3.23-bioc/R/bin/R CMD INSTALL GDCRNATools StartedAt: 2025-11-03 15:51:16 -0500 (Mon, 03 Nov 2025) EndedAt: 2025-11-03 15:52:19 -0500 (Mon, 03 Nov 2025) EllapsedTime: 63.0 seconds RetCode: 0 Status: OK