Package: GDCRNATools Version: 1.31.0 Command: /home/biocbuild/bbs-3.23-bioc/R/bin/R CMD build --keep-empty-dirs --no-resave-data GDCRNATools StartedAt: 2025-11-02 17:41:18 -0500 (Sun, 02 Nov 2025) EndedAt: 2025-11-02 17:42:21 -0500 (Sun, 02 Nov 2025) EllapsedTime: 63.0 seconds RetCode: 0 Status: OK PackageFile: GDCRNATools_1.31.0.tar.gz PackageFileSize: 5.314 MiB