Package: GDCRNATools Version: 1.29.0 Command: /Library/Frameworks/R.framework/Resources/bin/R CMD INSTALL GDCRNATools StartedAt: 2025-10-13 15:46:58 -0400 (Mon, 13 Oct 2025) EndedAt: 2025-10-13 15:48:20 -0400 (Mon, 13 Oct 2025) EllapsedTime: 81.6 seconds RetCode: 0 Status: OK