Package: GDCRNATools Version: 1.29.0 Command: /Library/Frameworks/R.framework/Resources/bin/R CMD build --keep-empty-dirs --no-resave-data GDCRNATools StartedAt: 2025-10-13 17:16:30 -0400 (Mon, 13 Oct 2025) EndedAt: 2025-10-13 17:17:53 -0400 (Mon, 13 Oct 2025) EllapsedTime: 83.4 seconds RetCode: 0 Status: OK PackageFile: GDCRNATools_1.29.0.tar.gz PackageFileSize: 5.314 MiB