Package: GDCRNATools Version: 1.29.0 Command: rm -rf GDCRNATools.buildbin-libdir && mkdir GDCRNATools.buildbin-libdir && /Users/biocbuild/BBS/utils/build-universal.sh GDCRNATools_1.29.0.tar.gz /Library/Frameworks/R.framework/Resources/bin/R GDCRNATools.buildbin-libdir StartedAt: 2025-10-14 02:45:06 -0400 (Tue, 14 Oct 2025) EndedAt: 2025-10-14 02:46:30 -0400 (Tue, 14 Oct 2025) EllapsedTime: 84.6 seconds RetCode: 0 Status: OK PackageFile: GDCRNATools_1.29.0.tgz PackageFileSize: 3.371 MiB