Package: GDCRNATools Version: 1.29.0 Command: /Library/Frameworks/R.framework/Resources/bin/R CMD build --keep-empty-dirs --no-resave-data GDCRNATools StartedAt: 2025-09-29 16:26:26 -0400 (Mon, 29 Sep 2025) EndedAt: 2025-09-29 16:26:53 -0400 (Mon, 29 Sep 2025) EllapsedTime: 27.3 seconds RetCode: 0 Status: OK PackageFile: GDCRNATools_1.29.0.tar.gz PackageFileSize: 5.313 MiB