Package: GDCRNATools Version: 1.29.0 Command: rm -rf GDCRNATools.buildbin-libdir && mkdir GDCRNATools.buildbin-libdir && /Users/biocbuild/BBS/utils/build-universal.sh GDCRNATools_1.29.0.tar.gz /Library/Frameworks/R.framework/Resources/bin/R GDCRNATools.buildbin-libdir StartedAt: 2025-09-29 22:36:25 -0400 (Mon, 29 Sep 2025) EndedAt: 2025-09-29 22:36:56 -0400 (Mon, 29 Sep 2025) EllapsedTime: 30.8 seconds RetCode: 0 Status: OK PackageFile: GDCRNATools_1.29.0.tgz PackageFileSize: 3.374 MiB