Package: GDCRNATools Version: 1.31.0 Maintainer: Ruidong Li MaintainerEmail: rli012 at ucr.edu git_url: https://git.bioconductor.org/packages/GDCRNATools git_branch: devel git_last_commit: 0524945 git_last_commit_date: 2025-10-29 10:42:54 -0500 (Wed, 29 Oct 2025)