Package: GCPtools Version: 1.1.0 Command: /home/biocbuild/bbs-3.23-bioc/R/bin/R CMD INSTALL GCPtools StartedAt: 2025-11-21 15:09:37 -0500 (Fri, 21 Nov 2025) EndedAt: 2025-11-21 15:09:44 -0500 (Fri, 21 Nov 2025) EllapsedTime: 7.3 seconds RetCode: 0 Status: OK