Package: GCPtools Version: 1.1.0 Command: /Library/Frameworks/R.framework/Resources/bin/R CMD INSTALL GCPtools StartedAt: 2025-11-21 15:16:12 -0500 (Fri, 21 Nov 2025) EndedAt: 2025-11-21 15:16:36 -0500 (Fri, 21 Nov 2025) EllapsedTime: 24.2 seconds RetCode: 0 Status: OK