Package: GCPtools Version: 1.1.0 Command: /Library/Frameworks/R.framework/Resources/bin/R CMD build --keep-empty-dirs --no-resave-data GCPtools StartedAt: 2025-11-21 17:04:34 -0500 (Fri, 21 Nov 2025) EndedAt: 2025-11-21 17:04:46 -0500 (Fri, 21 Nov 2025) EllapsedTime: 11.5 seconds RetCode: 0 Status: OK PackageFile: GCPtools_1.1.0.tar.gz PackageFileSize: 302.2 KiB