Package: GCPtools Version: 1.1.0 Command: rm -rf GCPtools.buildbin-libdir && mkdir GCPtools.buildbin-libdir && /Users/biocbuild/BBS/utils/build-universal.sh GCPtools_1.1.0.tar.gz /Library/Frameworks/R.framework/Resources/bin/R GCPtools.buildbin-libdir StartedAt: 2025-11-22 01:35:04 -0500 (Sat, 22 Nov 2025) EndedAt: 2025-11-22 01:35:13 -0500 (Sat, 22 Nov 2025) EllapsedTime: 9.3 seconds RetCode: 0 Status: OK PackageFile: GCPtools_1.1.0.tgz PackageFileSize: 338.6 KiB