Package: GCPtools Version: 0.99.4 Command: /Library/Frameworks/R.framework/Resources/bin/R CMD INSTALL GCPtools StartedAt: 2025-10-27 15:05:00 -0400 (Mon, 27 Oct 2025) EndedAt: 2025-10-27 15:05:02 -0400 (Mon, 27 Oct 2025) EllapsedTime: 2.0 seconds RetCode: 0 Status: OK