Package: GCPtools Version: 0.99.4 Command: rm -rf GCPtools.buildbin-libdir && mkdir GCPtools.buildbin-libdir && /Users/biocbuild/BBS/utils/build-universal.sh GCPtools_0.99.4.tar.gz /Library/Frameworks/R.framework/Resources/bin/R GCPtools.buildbin-libdir StartedAt: 2025-10-27 23:03:08 -0400 (Mon, 27 Oct 2025) EndedAt: 2025-10-27 23:03:11 -0400 (Mon, 27 Oct 2025) EllapsedTime: 3.1 seconds RetCode: 0 Status: OK PackageFile: GCPtools_0.99.4.tgz PackageFileSize: 339 KiB