Package: GBScleanR Version: 2.3.2 Command: /home/biocbuild/R/R/bin/R CMD build --keep-empty-dirs --no-resave-data GBScleanR StartedAt: 2025-10-20 23:53:15 -0000 (Mon, 20 Oct 2025) EndedAt: 2025-10-20 23:55:32 -0000 (Mon, 20 Oct 2025) EllapsedTime: 137.1 seconds RetCode: 1 Status: ERROR PackageFile: None PackageFileSize: NA