Package: GBScleanR Version: 2.5.3 Command: /home/biocbuild/bbs-3.23-bioc/R/bin/R CMD INSTALL GBScleanR StartedAt: 2025-11-20 15:31:46 -0500 (Thu, 20 Nov 2025) EndedAt: 2025-11-20 15:32:33 -0500 (Thu, 20 Nov 2025) EllapsedTime: 47.3 seconds RetCode: 0 Status: OK