Package: GBScleanR Version: 2.5.3 Command: /home/biocbuild/bbs-3.23-bioc/R/bin/R CMD build --keep-empty-dirs --no-resave-data GBScleanR StartedAt: 2025-11-20 17:42:11 -0500 (Thu, 20 Nov 2025) EndedAt: 2025-11-20 17:43:30 -0500 (Thu, 20 Nov 2025) EllapsedTime: 79.1 seconds RetCode: 1 Status: ERROR PackageFile: None PackageFileSize: NA