Package: GBScleanR Version: 2.3.2 Command: /Library/Frameworks/R.framework/Resources/bin/R CMD INSTALL GBScleanR StartedAt: 2025-10-12 15:30:39 -0400 (Sun, 12 Oct 2025) EndedAt: 2025-10-12 15:31:36 -0400 (Sun, 12 Oct 2025) EllapsedTime: 56.8 seconds RetCode: 0 Status: OK