Package: GBScleanR Version: 2.3.2 Command: /Library/Frameworks/R.framework/Resources/bin/R CMD build --keep-empty-dirs --no-resave-data GBScleanR StartedAt: 2025-10-12 17:11:20 -0400 (Sun, 12 Oct 2025) EndedAt: 2025-10-12 17:13:54 -0400 (Sun, 12 Oct 2025) EllapsedTime: 153.8 seconds RetCode: 0 Status: OK PackageFile: GBScleanR_2.3.2.tar.gz PackageFileSize: 2.242 MiB