Package: GBScleanR Version: 2.3.2 Command: rm -rf GBScleanR.buildbin-libdir && mkdir GBScleanR.buildbin-libdir && /Users/biocbuild/BBS/utils/build-universal.sh GBScleanR_2.3.2.tar.gz /Library/Frameworks/R.framework/Resources/bin/R GBScleanR.buildbin-libdir StartedAt: 2025-10-13 02:33:52 -0400 (Mon, 13 Oct 2025) EndedAt: 2025-10-13 02:34:57 -0400 (Mon, 13 Oct 2025) EllapsedTime: 64.9 seconds RetCode: 0 Status: OK PackageFile: GBScleanR_2.3.2.tgz PackageFileSize: 2.874 MiB