Package: GAprediction Version: 1.37.0 Command: /home/biocbuild/bbs-3.23-bioc/R/bin/R CMD INSTALL GAprediction StartedAt: 2025-11-02 15:12:12 -0500 (Sun, 02 Nov 2025) EndedAt: 2025-11-02 15:12:30 -0500 (Sun, 02 Nov 2025) EllapsedTime: 18.1 seconds RetCode: 0 Status: OK