Package: GAprediction Version: 1.37.0 Command: /home/biocbuild/bbs-3.23-bioc/R/bin/R CMD build --keep-empty-dirs --no-resave-data GAprediction StartedAt: 2025-11-03 17:36:23 -0500 (Mon, 03 Nov 2025) EndedAt: 2025-11-03 17:36:58 -0500 (Mon, 03 Nov 2025) EllapsedTime: 35.1 seconds RetCode: 0 Status: OK PackageFile: GAprediction_1.37.0.tar.gz PackageFileSize: 1.806 MiB