Package: GAprediction Version: 1.35.0 Command: /Library/Frameworks/R.framework/Resources/bin/R CMD INSTALL GAprediction StartedAt: 2025-10-07 15:08:13 -0400 (Tue, 07 Oct 2025) EndedAt: 2025-10-07 15:09:13 -0400 (Tue, 07 Oct 2025) EllapsedTime: 60.0 seconds RetCode: 0 Status: OK