Package: GAprediction Version: 1.35.0 Command: /Library/Frameworks/R.framework/Resources/bin/R CMD build --keep-empty-dirs --no-resave-data GAprediction StartedAt: 2025-10-07 17:07:26 -0400 (Tue, 07 Oct 2025) EndedAt: 2025-10-07 17:08:14 -0400 (Tue, 07 Oct 2025) EllapsedTime: 48.2 seconds RetCode: 0 Status: OK PackageFile: GAprediction_1.35.0.tar.gz PackageFileSize: 1.806 MiB