Package: GAprediction Version: 1.35.0 Command: rm -rf GAprediction.buildbin-libdir && mkdir GAprediction.buildbin-libdir && /Users/biocbuild/BBS/utils/build-universal.sh GAprediction_1.35.0.tar.gz /Library/Frameworks/R.framework/Resources/bin/R GAprediction.buildbin-libdir StartedAt: 2025-10-08 02:18:34 -0400 (Wed, 08 Oct 2025) EndedAt: 2025-10-08 02:18:52 -0400 (Wed, 08 Oct 2025) EllapsedTime: 17.4 seconds RetCode: 0 Status: OK PackageFile: GAprediction_1.35.0.tgz PackageFileSize: 885.1 KiB