Package: GARS Version: 1.31.0 Command: /home/biocbuild/bbs-3.23-bioc/R/bin/R CMD INSTALL GARS StartedAt: 2025-11-20 15:54:44 -0500 (Thu, 20 Nov 2025) EndedAt: 2025-11-20 15:55:38 -0500 (Thu, 20 Nov 2025) EllapsedTime: 54.4 seconds RetCode: 0 Status: OK