Package: GARS Version: 1.31.0 Command: /home/biocbuild/bbs-3.23-bioc/R/bin/R CMD build --keep-empty-dirs --no-resave-data GARS StartedAt: 2025-11-20 17:41:59 -0500 (Thu, 20 Nov 2025) EndedAt: 2025-11-20 17:43:56 -0500 (Thu, 20 Nov 2025) EllapsedTime: 117.1 seconds RetCode: 0 Status: OK PackageFile: GARS_1.31.0.tar.gz PackageFileSize: 438.5 KiB