Package: GARS Version: 1.29.0 Command: /Library/Frameworks/R.framework/Resources/bin/R CMD INSTALL GARS StartedAt: 2025-10-17 15:46:19 -0400 (Fri, 17 Oct 2025) EndedAt: 2025-10-17 15:47:37 -0400 (Fri, 17 Oct 2025) EllapsedTime: 77.7 seconds RetCode: 0 Status: OK