Package: GARS Version: 1.29.0 Command: rm -rf GARS.buildbin-libdir && mkdir GARS.buildbin-libdir && /Users/biocbuild/BBS/utils/build-universal.sh GARS_1.29.0.tar.gz /Library/Frameworks/R.framework/Resources/bin/R GARS.buildbin-libdir StartedAt: 2025-10-16 02:54:04 -0400 (Thu, 16 Oct 2025) EndedAt: 2025-10-16 02:55:24 -0400 (Thu, 16 Oct 2025) EllapsedTime: 80.1 seconds RetCode: 0 Status: OK PackageFile: GARS_1.29.0.tgz PackageFileSize: 499.2 KiB