Package: GARS Version: 1.29.0 Command: /Library/Frameworks/R.framework/Resources/bin/R CMD INSTALL GARS StartedAt: 2025-09-29 15:27:46 -0400 (Mon, 29 Sep 2025) EndedAt: 2025-09-29 15:28:08 -0400 (Mon, 29 Sep 2025) EllapsedTime: 22.1 seconds RetCode: 0 Status: OK