Package: GARS Version: 1.29.0 Command: /Library/Frameworks/R.framework/Resources/bin/R CMD build --keep-empty-dirs --no-resave-data GARS StartedAt: 2025-09-29 16:25:40 -0400 (Mon, 29 Sep 2025) EndedAt: 2025-09-29 16:26:29 -0400 (Mon, 29 Sep 2025) EllapsedTime: 49.5 seconds RetCode: 0 Status: OK PackageFile: GARS_1.29.0.tar.gz PackageFileSize: 438.2 KiB