Package: GARS Version: 1.29.0 Command: rm -rf GARS.buildbin-libdir && mkdir GARS.buildbin-libdir && /Users/biocbuild/BBS/utils/build-universal.sh GARS_1.29.0.tar.gz /Library/Frameworks/R.framework/Resources/bin/R GARS.buildbin-libdir StartedAt: 2025-09-30 22:40:24 -0400 (Tue, 30 Sep 2025) EndedAt: 2025-09-30 22:40:55 -0400 (Tue, 30 Sep 2025) EllapsedTime: 30.6 seconds RetCode: 0 Status: OK PackageFile: GARS_1.29.0.tgz PackageFileSize: 501.8 KiB