Package: GA4GHshiny Version: 1.31.1 Command: /home/biocbuild/R/R/bin/R CMD INSTALL GA4GHshiny StartedAt: 2025-10-13 21:30:33 -0000 (Mon, 13 Oct 2025) EndedAt: 2025-10-13 21:31:23 -0000 (Mon, 13 Oct 2025) EllapsedTime: 50.0 seconds RetCode: 0 Status: OK