Package: GA4GHshiny Version: 1.31.1 Command: rm -rf GA4GHshiny.buildbin-libdir && mkdir GA4GHshiny.buildbin-libdir && F:\biocbuild\bbs-3.22-bioc\R\bin\R.exe CMD INSTALL --build --library=GA4GHshiny.buildbin-libdir GA4GHshiny_1.31.1.tar.gz StartedAt: 2025-08-15 10:18:23 -0400 (Fri, 15 Aug 2025) EndedAt: 2025-08-15 10:19:12 -0400 (Fri, 15 Aug 2025) EllapsedTime: 49.5 seconds RetCode: 0 Status: OK PackageFile: GA4GHshiny_1.31.1.zip PackageFileSize: 479.4 KiB