Package: GA4GHshiny Version: 1.31.1 Command: /home/biocbuild/bbs-3.22-bioc/R/bin/R CMD check --install=check:GA4GHshiny.install-out.txt --library=/home/biocbuild/bbs-3.22-bioc/R/site-library --timings GA4GHshiny_1.31.1.tar.gz StartedAt: 2025-10-14 00:12:15 -0400 (Tue, 14 Oct 2025) EndedAt: 2025-10-14 00:17:10 -0400 (Tue, 14 Oct 2025) EllapsedTime: 295.2 seconds RetCode: 0 Status: OK CheckDir: GA4GHshiny.Rcheck Warnings: 0