Package: GA4GHshiny Version: 1.33.0 Command: /home/biocbuild/bbs-3.23-bioc/R/bin/R CMD INSTALL GA4GHshiny StartedAt: 2025-11-02 15:51:38 -0500 (Sun, 02 Nov 2025) EndedAt: 2025-11-02 15:52:19 -0500 (Sun, 02 Nov 2025) EllapsedTime: 40.4 seconds RetCode: 0 Status: OK