Package: GA4GHshiny Version: 1.33.0 Command: /home/biocbuild/bbs-3.23-bioc/R/bin/R CMD check --install=check:GA4GHshiny.install-out.txt --library=/home/biocbuild/bbs-3.23-bioc/R/site-library --timings GA4GHshiny_1.33.0.tar.gz StartedAt: 2025-11-16 23:48:14 -0500 (Sun, 16 Nov 2025) EndedAt: 2025-11-16 23:53:04 -0500 (Sun, 16 Nov 2025) EllapsedTime: 290.4 seconds RetCode: 0 Status: OK CheckDir: GA4GHshiny.Rcheck Warnings: 0