Package: GA4GHshiny Version: 1.31.1 Command: /Library/Frameworks/R.framework/Resources/bin/R CMD INSTALL GA4GHshiny StartedAt: 2025-10-12 15:23:38 -0400 (Sun, 12 Oct 2025) EndedAt: 2025-10-12 15:23:55 -0400 (Sun, 12 Oct 2025) EllapsedTime: 17.2 seconds RetCode: 0 Status: OK