Package: GA4GHshiny Version: 1.31.1 Command: /Library/Frameworks/R.framework/Resources/bin/R CMD build --keep-empty-dirs --no-resave-data GA4GHshiny StartedAt: 2025-10-12 16:24:36 -0400 (Sun, 12 Oct 2025) EndedAt: 2025-10-12 16:24:54 -0400 (Sun, 12 Oct 2025) EllapsedTime: 18.2 seconds RetCode: 0 Status: OK PackageFile: GA4GHshiny_1.31.1.tar.gz PackageFileSize: 298.7 KiB