Package: GA4GHshiny Version: 1.31.1 Maintainer: Welliton Souza MaintainerEmail: well309 at gmail.com git_url: https://git.bioconductor.org/packages/GA4GHshiny git_branch: devel git_last_commit: 00878cf git_last_commit_date: 2025-07-31 12:46:21 -0400 (Thu, 31 Jul 2025)