Package: GA4GHclient Version: 1.33.1 Command: /home/biocbuild/R/R/bin/R CMD INSTALL GA4GHclient StartedAt: 2025-10-06 21:05:54 -0000 (Mon, 06 Oct 2025) EndedAt: 2025-10-06 21:06:42 -0000 (Mon, 06 Oct 2025) EllapsedTime: 48.6 seconds RetCode: 0 Status: OK