Package: GA4GHclient Version: 1.33.1 Command: /home/biocbuild/R/R/bin/R CMD build --keep-empty-dirs --no-resave-data GA4GHclient StartedAt: 2025-10-06 23:47:23 -0000 (Mon, 06 Oct 2025) EndedAt: 2025-10-06 23:49:05 -0000 (Mon, 06 Oct 2025) EllapsedTime: 102.0 seconds RetCode: 0 Status: OK PackageFile: GA4GHclient_1.33.1.tar.gz PackageFileSize: 736.9 KiB