Package: GA4GHclient Version: 1.33.1 Command: F:\biocbuild\bbs-3.22-bioc\R\bin\R.exe CMD INSTALL GA4GHclient StartedAt: 2025-08-14 16:42:15 -0400 (Thu, 14 Aug 2025) EndedAt: 2025-08-14 16:43:27 -0400 (Thu, 14 Aug 2025) EllapsedTime: 72.8 seconds RetCode: 0 Status: OK