Package: GA4GHclient Version: 1.33.1 Command: chmod a+r GA4GHclient -R && F:\biocbuild\bbs-3.22-bioc\R\bin\R.exe CMD build --keep-empty-dirs --no-resave-data GA4GHclient StartedAt: 2025-08-14 20:19:24 -0400 (Thu, 14 Aug 2025) EndedAt: 2025-08-14 20:21:16 -0400 (Thu, 14 Aug 2025) EllapsedTime: 112.2 seconds RetCode: 0 Status: OK PackageFile: GA4GHclient_1.33.1.tar.gz PackageFileSize: 638.1 KiB